BEGIN:VCALENDAR
VERSION:2.0
PRODID:-//Dyess We Care Team - ECPv6.15.20//NONSGML v1.0//EN
CALSCALE:GREGORIAN
METHOD:PUBLISH
X-ORIGINAL-URL:https://dyesswecareteam.com/blog
X-WR-CALDESC:Events for Dyess We Care Team
REFRESH-INTERVAL;VALUE=DURATION:PT1H
X-Robots-Tag:noindex
X-PUBLISHED-TTL:PT1H
BEGIN:VTIMEZONE
TZID:America/Chicago
BEGIN:DAYLIGHT
TZOFFSETFROM:-0600
TZOFFSETTO:-0500
TZNAME:CDT
DTSTART:20250309T080000
END:DAYLIGHT
BEGIN:STANDARD
TZOFFSETFROM:-0500
TZOFFSETTO:-0600
TZNAME:CST
DTSTART:20251102T070000
END:STANDARD
BEGIN:DAYLIGHT
TZOFFSETFROM:-0600
TZOFFSETTO:-0500
TZNAME:CDT
DTSTART:20260308T080000
END:DAYLIGHT
BEGIN:STANDARD
TZOFFSETFROM:-0500
TZOFFSETTO:-0600
TZNAME:CST
DTSTART:20261101T070000
END:STANDARD
BEGIN:DAYLIGHT
TZOFFSETFROM:-0600
TZOFFSETTO:-0500
TZNAME:CDT
DTSTART:20270314T080000
END:DAYLIGHT
BEGIN:STANDARD
TZOFFSETFROM:-0500
TZOFFSETTO:-0600
TZNAME:CST
DTSTART:20271107T070000
END:STANDARD
END:VTIMEZONE
BEGIN:VEVENT
DTSTART;TZID=America/Chicago:20260314T090000
DTEND;TZID=America/Chicago:20260314T170000
DTSTAMP:20260423T080743
CREATED:20260125T002736Z
LAST-MODIFIED:20260301T142643Z
UID:8308-1773478800-1773507600@dyesswecareteam.com
SUMMARY:VFW Make Over - Phase IV
DESCRIPTION:Saturday\, March 14\, 2026 @ 9:00 am\n1049 Veterans Dr\, Abilene TX\nDyess We Care Team VFW Renovation Project \nFor generations\, the Veterans of Foreign Wars has stood as more than just a building—it is a sanctuary. A place where stories are shared\, burdens are set down\, and no veteran stands alone. The VFW represents sacrifice\, service\, and the unbreakable bond between those who have worn the uniform and the nation they defended. \nNow\, it’s our turn to serve them.\nThe Dyess We Care Team is proud to take on a multi-weekend renovation of our local VFW—an investment not just in a facility\, but in the men and women who rely on it. This space supports combat veterans\, active-duty service members\, and military families. It hosts meetings\, remembrance ceremonies\, peer support\, and moments of healing that will continue long after the paint dries and the tools are packed away.\nThis project is about legacy.\nIt’s about ensuring that when a veteran walks through those doors—today or twenty years from now—they feel honored\, welcomed\, and remembered.\nWe will be working over several weekends with two shifts each day:\nMorning Shift: 0900\nAfternoon Shift: 1300\nIf you want to put in a full day of service\, we encourage you to sign up for both shifts. For those working both\, lunch will be provided—our way of taking care of the team that’s taking care of our veterans. \nCLICK HERE TO VOLUNTEER
URL:https://dyesswecareteam.com/blog/event/vfw-make-over-phase-iv/
LOCATION:VFW Post 6873\, 1049 Veterans Dr\,\, Abilene\, TX\, 79605\, United States
ATTACH;FMTTYPE=image/jpeg:https://dyesswecareteam.com/blog/wp-content/uploads/2026/02/WCT_VFW-P1-54.jpg
END:VEVENT
END:VCALENDAR