BEGIN:VCALENDAR
VERSION:2.0
PRODID:-//Dyess We Care Team - ECPv6.15.20//NONSGML v1.0//EN
CALSCALE:GREGORIAN
METHOD:PUBLISH
X-WR-CALNAME:Dyess We Care Team
X-ORIGINAL-URL:https://dyesswecareteam.com/blog
X-WR-CALDESC:Events for Dyess We Care Team
REFRESH-INTERVAL;VALUE=DURATION:PT1H
X-Robots-Tag:noindex
X-PUBLISHED-TTL:PT1H
BEGIN:VTIMEZONE
TZID:UTC
BEGIN:STANDARD
TZOFFSETFROM:+0000
TZOFFSETTO:+0000
TZNAME:UTC
DTSTART:20240101T000000
END:STANDARD
END:VTIMEZONE
BEGIN:VEVENT
DTSTART;TZID=UTC:20250712T103000
DTEND;TZID=UTC:20250712T163000
DTSTAMP:20260423T203509
CREATED:20170712T051208Z
LAST-MODIFIED:20250520T210344Z
UID:2761-1752316200-1752337800@dyesswecareteam.com
SUMMARY:All American Car Wash
DESCRIPTION:ALL AMERICAN CAR WASH! Saturday\,\nJULY 12th \n@ Statesman Coffee on S.14th\n(4574 S. 1st St)\n(S.E. corned of the Hobby Lobby parking lot)\n10:30 am – 4:30 pm\n  \n\nROCK THE RED\, WHITE & BLUE THEME\, and win our highly coveted CAPTAIN CARWASH AWARD! Judging will be based on Theme\, Originality\, Productivity and extra points for sign-holders and volunteers working BOTH shift!\n\n\nClick Here To Volunteer
URL:https://dyesswecareteam.com/blog/event/all-american-car-wash/
LOCATION:Statesman Coffee\, 4574 South 14th Street\, Abilene\, TX\, 79605\, United States
ATTACH;FMTTYPE=image/jpeg:https://dyesswecareteam.com/blog/wp-content/uploads/2021/07/20210717-_XT46414.jpg
END:VEVENT
END:VCALENDAR