BEGIN:VCALENDAR
VERSION:2.0
PRODID:-//Dyess We Care Team - ECPv6.15.20//NONSGML v1.0//EN
CALSCALE:GREGORIAN
METHOD:PUBLISH
X-ORIGINAL-URL:https://dyesswecareteam.com/blog
X-WR-CALDESC:Events for Dyess We Care Team
REFRESH-INTERVAL;VALUE=DURATION:PT1H
X-Robots-Tag:noindex
X-PUBLISHED-TTL:PT1H
BEGIN:VTIMEZONE
TZID:UTC
BEGIN:STANDARD
TZOFFSETFROM:+0000
TZOFFSETTO:+0000
TZNAME:UTC
DTSTART:20240101T000000
END:STANDARD
END:VTIMEZONE
BEGIN:VEVENT
DTSTART;TZID=UTC:20250524T213000
DTEND;TZID=UTC:20250525T050000
DTSTAMP:20260423T230922
CREATED:20150601T033447Z
LAST-MODIFIED:20250511T155804Z
UID:442-1748122200-1748149200@dyesswecareteam.com
SUMMARY:2025 Project Graduation
DESCRIPTION:SATURDAY MAY 24TH – SUNDAY\, MAY 25TH \n***** DYESS WE CARE TEAM COIN FOR ALL VOLUNTEERS!! ***** \nAll volunteers PLEASE wear a Dyess We Care Team shirt; IF you don’t have one… *** PLEASE SIGN UP USING YOUR NAME AND THEN SHIRT SIZE!! EX – JOHN SMITH (M) *** \nThis project has CITY WIDE impact!! There are over 30 deaths each day in the U.S. involving drinking and driving. 61% of these deaths were NOT the person drinking\, and another 15% were children killed by drunk drivers (statistics from MADD). \nOn Saturday\, May 27th\, Graduation night… where will YOUR coworkers\, friends\, boyfriends\, girlfriends\, husbands\, wives and CHILDREN be??? Is it worth some of your time to keep those you love from becoming a statistic? \nWe need volunteers to work work concession\, manage the inflatables and bucking bull\, provide general supervision and help with tear-down. As we are setting the example for the students to follow\, please arrive with NO food\, drinks\, tobacco products or pets. There will be PLENTY of food and non-alcoholic drinks available for our volunteers. \nThe Team Leader for this event is SrA Makayla Survance. \nPLEASE CONSIDER VOLUNTEERING FOR BOTH SHIFTS!! IF THE OLD DYESS WE CARE TEAM CEO CAN DO IT\, SO CAN YOU! \n  \n. \nPLEASE CONSIDER VOLUNTEERING FOR BOTH SHIFTS!! IF THE OLD DYESS WE CARE TEAM CEO CAN DO IT\, SO CAN YOU! \n  \n\nHELP PROTECT THE COMMUNITY\,\nBECOME A GUARDIAN\nOF THE\nGRADUATES!\n\nTaylor County Expo Center\n1700 State Highway 36 (E South 11th St)\nClick Here To Volunteer\n 
URL:https://dyesswecareteam.com/blog/event/family-days/
LOCATION:Taylor County Expo Center\, 1700 Tx-36\, Abilene\, TX\, 79602\, United States
ATTACH;FMTTYPE=image/jpeg:https://dyesswecareteam.com/blog/wp-content/uploads/2015/05/project-grad.jpg
END:VEVENT
END:VCALENDAR