BEGIN:VCALENDAR
VERSION:2.0
PRODID:-//Dyess We Care Team - ECPv6.15.20//NONSGML v1.0//EN
CALSCALE:GREGORIAN
METHOD:PUBLISH
X-WR-CALNAME:Dyess We Care Team
X-ORIGINAL-URL:https://dyesswecareteam.com/blog
X-WR-CALDESC:Events for Dyess We Care Team
REFRESH-INTERVAL;VALUE=DURATION:PT1H
X-Robots-Tag:noindex
X-PUBLISHED-TTL:PT1H
BEGIN:VTIMEZONE
TZID:America/Chicago
BEGIN:DAYLIGHT
TZOFFSETFROM:-0600
TZOFFSETTO:-0500
TZNAME:CDT
DTSTART:20240310T080000
END:DAYLIGHT
BEGIN:STANDARD
TZOFFSETFROM:-0500
TZOFFSETTO:-0600
TZNAME:CST
DTSTART:20241103T070000
END:STANDARD
BEGIN:DAYLIGHT
TZOFFSETFROM:-0600
TZOFFSETTO:-0500
TZNAME:CDT
DTSTART:20250309T080000
END:DAYLIGHT
BEGIN:STANDARD
TZOFFSETFROM:-0500
TZOFFSETTO:-0600
TZNAME:CST
DTSTART:20251102T070000
END:STANDARD
BEGIN:DAYLIGHT
TZOFFSETFROM:-0600
TZOFFSETTO:-0500
TZNAME:CDT
DTSTART:20260308T080000
END:DAYLIGHT
BEGIN:STANDARD
TZOFFSETFROM:-0500
TZOFFSETTO:-0600
TZNAME:CST
DTSTART:20261101T070000
END:STANDARD
END:VTIMEZONE
BEGIN:VEVENT
DTSTART;TZID=America/Chicago:20250426T090000
DTEND;TZID=America/Chicago:20250426T160000
DTSTAMP:20260424T002817
CREATED:20250421T005503Z
LAST-MODIFIED:20250421T005536Z
UID:7561-1745658000-1745683200@dyesswecareteam.com
SUMMARY:HHC - Refurbish Barn's Student Room
DESCRIPTION:Hendrick Home For Children\nRefurbish Barn’s Student Room\nSaturday\, April 26th – 9:00 am to 4:00 pm\nThe Dyess We Care Team is heading to the barn\, and we need your help! We’re rolling up our sleeves to refurbish the barn’s student room and could really use volunteers with a heart for service—and maybe a sander or two. In addition to refreshing the space\, we’ll be sanding and re-staining furniture\, so if you have your own sander\, please bring it along. The first volunteer shift kicks off at 0900\, with a second shift beginning at 1 PM. We’ll serve lunch between noon and 1 PM to keep everyone fueled and ready. Let’s make this barn project something special!\nClick Here to Volunteer
URL:https://dyesswecareteam.com/blog/event/hhc-refurbish-barns-student-room/
LOCATION:Hendrick Home For Children\, 2758 Jeanette St\, Abilene\, TX\, 79602\, United States
ATTACH;FMTTYPE=image/jpeg:https://dyesswecareteam.com/blog/wp-content/uploads/2025/03/20250222-_NZ87925.jpg
END:VEVENT
END:VCALENDAR