BEGIN:VCALENDAR
VERSION:2.0
PRODID:-//Dyess We Care Team - ECPv6.15.20//NONSGML v1.0//EN
CALSCALE:GREGORIAN
METHOD:PUBLISH
X-ORIGINAL-URL:https://dyesswecareteam.com/blog
X-WR-CALDESC:Events for Dyess We Care Team
REFRESH-INTERVAL;VALUE=DURATION:PT1H
X-Robots-Tag:noindex
X-PUBLISHED-TTL:PT1H
BEGIN:VTIMEZONE
TZID:America/Chicago
BEGIN:DAYLIGHT
TZOFFSETFROM:-0600
TZOFFSETTO:-0500
TZNAME:CDT
DTSTART:20240310T080000
END:DAYLIGHT
BEGIN:STANDARD
TZOFFSETFROM:-0500
TZOFFSETTO:-0600
TZNAME:CST
DTSTART:20241103T070000
END:STANDARD
BEGIN:DAYLIGHT
TZOFFSETFROM:-0600
TZOFFSETTO:-0500
TZNAME:CDT
DTSTART:20250309T080000
END:DAYLIGHT
BEGIN:STANDARD
TZOFFSETFROM:-0500
TZOFFSETTO:-0600
TZNAME:CST
DTSTART:20251102T070000
END:STANDARD
BEGIN:DAYLIGHT
TZOFFSETFROM:-0600
TZOFFSETTO:-0500
TZNAME:CDT
DTSTART:20260308T080000
END:DAYLIGHT
BEGIN:STANDARD
TZOFFSETFROM:-0500
TZOFFSETTO:-0600
TZNAME:CST
DTSTART:20261101T070000
END:STANDARD
END:VTIMEZONE
BEGIN:VEVENT
DTSTART;TZID=America/Chicago:20250208T090000
DTEND;TZID=America/Chicago:20250208T160000
DTSTAMP:20260424T043806
CREATED:20250126T174007Z
LAST-MODIFIED:20250127T005745Z
UID:7205-1739005200-1739030400@dyesswecareteam.com
SUMMARY:Youth Voice Make-Over II
DESCRIPTION:Youth Voice Make-Over\nSaturday\, February 8\, 2025\n9:00 am to 4:00 pm\n140 Mulberry Street (corner of North 2nd & Mulberry)\n  \nDYESS WE CARE TEAM TAKES ON A HISTORIC TRANSFORMATION PROJECT FOR YOUTH VOICE FACILITY\nThe Dyess We Care Team is proud to announce its latest community-driven initiative: the restoration and transformation of the historic Youth Voice facility\, which originally served as Abilene’s first fire station. This building\, steeped in history\, now serves as a beacon of hope and support for at-risk and homeless teens\, offering a safe and nurturing after-school environment. Our mission is to breathe new life into this cherished facility\, ensuring it continues to be a haven for the youth of Abilene for years to come.\nThe Project: More Than Just a Fresh Coat of Paint\nThis isn’t just a renovation—it’s a labor of love and dedication. Volunteers from The Dyess We Care Team will undertake a comprehensive makeover of the Youth Voice facility\, including:\nPrepping and Painting: We’ll start with a complete cleaning and prep\, followed by vibrant\, fresh paint to revitalize the facility.\nElectrical Work: Bringing the building up to modern standards with electrical repairs and updates for safety and functionality.\nBuilding a Stage: A brand-new stage will provide a platform for teens to express themselves through music\, theater\, and other creative outlets.\nWall Murals: Local artists will join forces with our volunteers to create inspiring\, youth-centric murals that reflect the spirit of hope and empowerment.\nMeet the Dream Team\nWhy This Project Matters\nThe Youth Voice facility provides a critical lifeline for teens facing challenges many of us can only imagine. From homework help to emotional support\, this facility ensures that every teen who walks through its doors has the chance to thrive. By restoring and enhancing this space\, we’re helping to create an environment where these young individuals can feel safe\, valued\, and inspired.\nJoin Us in Making a Difference\nThis project embodies the heart of what The Dyess We Care Team stands for: bringing people together to make an impactful difference in our community. Volunteers\, sponsors\, and community members are invited to join us in this effort—whether by lending a helping hand or simply cheering us on.\nTogether\, we’ll honor the rich history of Abilene’s first fire station while paving the way for a brighter future for the teens who rely on the Youth Voice facility. Stay tuned for updates as we take on this exciting transformation!\nCLICK HERE TO VOLUNTEER
URL:https://dyesswecareteam.com/blog/event/youth-voice-make-over-ii/
LOCATION:Youth Voice\, 140 Mulberry Street\, Abilene\, TX\, 79601\, United States
ATTACH;FMTTYPE=image/jpeg:https://dyesswecareteam.com/blog/wp-content/uploads/2025/01/20250125-_NZ87020.jpg
END:VEVENT
BEGIN:VEVENT
DTSTART;TZID=America/Chicago:20250222T090000
DTEND;TZID=America/Chicago:20250222T160000
DTSTAMP:20260424T043806
CREATED:20250126T174323Z
LAST-MODIFIED:20250127T005820Z
UID:7207-1740214800-1740240000@dyesswecareteam.com
SUMMARY:Youth Voice Make-Over III
DESCRIPTION:Youth Voice Make-Over\nSaturday\, February 22\, 2025\n9:00 am to 4:00 pm\n140 Mulberry Street (corner of North 2nd & Mulberry)\n  \nDYESS WE CARE TEAM TAKES ON A HISTORIC TRANSFORMATION PROJECT FOR YOUTH VOICE FACILITY\nThe Dyess We Care Team is proud to announce its latest community-driven initiative: the restoration and transformation of the historic Youth Voice facility\, which originally served as Abilene’s first fire station. This building\, steeped in history\, now serves as a beacon of hope and support for at-risk and homeless teens\, offering a safe and nurturing after-school environment. Our mission is to breathe new life into this cherished facility\, ensuring it continues to be a haven for the youth of Abilene for years to come.\nThe Project: More Than Just a Fresh Coat of Paint\nThis isn’t just a renovation—it’s a labor of love and dedication. Volunteers from The Dyess We Care Team will undertake a comprehensive makeover of the Youth Voice facility\, including:\nPrepping and Painting: We’ll start with a complete cleaning and prep\, followed by vibrant\, fresh paint to revitalize the facility.\nElectrical Work: Bringing the building up to modern standards with electrical repairs and updates for safety and functionality.\nBuilding a Stage: A brand-new stage will provide a platform for teens to express themselves through music\, theater\, and other creative outlets.\nWall Murals: Local artists will join forces with our volunteers to create inspiring\, youth-centric murals that reflect the spirit of hope and empowerment.\nMeet the Dream Team\nWhy This Project Matters\nThe Youth Voice facility provides a critical lifeline for teens facing challenges many of us can only imagine. From homework help to emotional support\, this facility ensures that every teen who walks through its doors has the chance to thrive. By restoring and enhancing this space\, we’re helping to create an environment where these young individuals can feel safe\, valued\, and inspired.\nJoin Us in Making a Difference\nThis project embodies the heart of what The Dyess We Care Team stands for: bringing people together to make an impactful difference in our community. Volunteers\, sponsors\, and community members are invited to join us in this effort—whether by lending a helping hand or simply cheering us on.\nTogether\, we’ll honor the rich history of Abilene’s first fire station while paving the way for a brighter future for the teens who rely on the Youth Voice facility. Stay tuned for updates as we take on this exciting transformation!\nCLICK HERE TO VOLUNTEER
URL:https://dyesswecareteam.com/blog/event/youth-voice-make-over-iii/
LOCATION:Youth Voice\, 140 Mulberry Street\, Abilene\, TX\, 79601\, United States
ATTACH;FMTTYPE=image/jpeg:https://dyesswecareteam.com/blog/wp-content/uploads/2025/01/20250125-_NZ86962.jpg
END:VEVENT
END:VCALENDAR