BEGIN:VCALENDAR
VERSION:2.0
PRODID:-//Dyess We Care Team - ECPv6.15.20//NONSGML v1.0//EN
CALSCALE:GREGORIAN
METHOD:PUBLISH
X-ORIGINAL-URL:https://dyesswecareteam.com/blog
X-WR-CALDESC:Events for Dyess We Care Team
REFRESH-INTERVAL;VALUE=DURATION:PT1H
X-Robots-Tag:noindex
X-PUBLISHED-TTL:PT1H
BEGIN:VTIMEZONE
TZID:America/Chicago
BEGIN:DAYLIGHT
TZOFFSETFROM:-0600
TZOFFSETTO:-0500
TZNAME:CDT
DTSTART:20230312T080000
END:DAYLIGHT
BEGIN:STANDARD
TZOFFSETFROM:-0500
TZOFFSETTO:-0600
TZNAME:CST
DTSTART:20231105T070000
END:STANDARD
BEGIN:DAYLIGHT
TZOFFSETFROM:-0600
TZOFFSETTO:-0500
TZNAME:CDT
DTSTART:20240310T080000
END:DAYLIGHT
BEGIN:STANDARD
TZOFFSETFROM:-0500
TZOFFSETTO:-0600
TZNAME:CST
DTSTART:20241103T070000
END:STANDARD
BEGIN:DAYLIGHT
TZOFFSETFROM:-0600
TZOFFSETTO:-0500
TZNAME:CDT
DTSTART:20250309T080000
END:DAYLIGHT
BEGIN:STANDARD
TZOFFSETFROM:-0500
TZOFFSETTO:-0600
TZNAME:CST
DTSTART:20251102T070000
END:STANDARD
END:VTIMEZONE
BEGIN:VEVENT
DTSTART;TZID=America/Chicago:20240727T090000
DTEND;TZID=America/Chicago:20240727T160000
DTSTAMP:20260424T155710
CREATED:20240721T215841Z
LAST-MODIFIED:20240721T220427Z
UID:6473-1722070800-1722096000@dyesswecareteam.com
SUMMARY:Westmoreland Street Project
DESCRIPTION:Saturday\, July 27\, 2024 – 09:00 to 4:00 pm\n1718 Westmoreland Street\nHelping a couple of a fixed income (She works\, he is on medical disability) to paint their house. This will be the FIRST project of the Dyess We Care Team year\, which runs from July 2024 – June 2025. NOW IS THE TIME TO RACK UP THOSE VOLUNTEER POINTS FOR NEXT YEAR’S TOP 10!\nIf you’re working a double shift\, PLEASE sign up for both shifts. We will provide lunch for those working both shifts.\nThe Team Leaders are SMSgt Jason Chesonis and Assistant TL A1C Gabe Foley.\nCLICK HERE TO VOLUNTEER
URL:https://dyesswecareteam.com/blog/event/westmoreland-street-project/
LOCATION:1718 Westmoreland Project\, 1718 Westmoreland Street\, Abilene\, TX\, 79603\, United States
ATTACH;FMTTYPE=image/jpeg:https://dyesswecareteam.com/blog/wp-content/uploads/2024/06/20240615-Meander-St-0074.jpg
END:VEVENT
END:VCALENDAR