BEGIN:VCALENDAR
VERSION:2.0
PRODID:-//Dyess We Care Team - ECPv6.15.20//NONSGML v1.0//EN
CALSCALE:GREGORIAN
METHOD:PUBLISH
X-ORIGINAL-URL:https://dyesswecareteam.com/blog
X-WR-CALDESC:Events for Dyess We Care Team
REFRESH-INTERVAL;VALUE=DURATION:PT1H
X-Robots-Tag:noindex
X-PUBLISHED-TTL:PT1H
BEGIN:VTIMEZONE
TZID:America/Chicago
BEGIN:DAYLIGHT
TZOFFSETFROM:-0600
TZOFFSETTO:-0500
TZNAME:CDT
DTSTART:20230312T080000
END:DAYLIGHT
BEGIN:STANDARD
TZOFFSETFROM:-0500
TZOFFSETTO:-0600
TZNAME:CST
DTSTART:20231105T070000
END:STANDARD
BEGIN:DAYLIGHT
TZOFFSETFROM:-0600
TZOFFSETTO:-0500
TZNAME:CDT
DTSTART:20240310T080000
END:DAYLIGHT
BEGIN:STANDARD
TZOFFSETFROM:-0500
TZOFFSETTO:-0600
TZNAME:CST
DTSTART:20241103T070000
END:STANDARD
BEGIN:DAYLIGHT
TZOFFSETFROM:-0600
TZOFFSETTO:-0500
TZNAME:CDT
DTSTART:20250309T080000
END:DAYLIGHT
BEGIN:STANDARD
TZOFFSETFROM:-0500
TZOFFSETTO:-0600
TZNAME:CST
DTSTART:20251102T070000
END:STANDARD
END:VTIMEZONE
BEGIN:VEVENT
DTSTART;TZID=America/Chicago:20240615T090000
DTEND;TZID=America/Chicago:20240615T160000
DTSTAMP:20260424T184412
CREATED:20240527T162911Z
LAST-MODIFIED:20240527T163038Z
UID:6011-1718442000-1718467200@dyesswecareteam.com
SUMMARY:Cockerell Drive House Painting Project
DESCRIPTION:Saturday\, June 15\, 2024\n741 Cockerell Drive\nBeginning at 9:00 am\n  \nIn 2024\, let’s defy the odds and make a lasting impact! Join the Dyess We Care Team as we close out our year (our year runs from July – June) in the most meaningful way. Our mission: to transform the home of a remarkable individual—Robert\, a 76-year-old disabled man who dedicated his life to serving others. From driving the AISD school bus for over two decades to entertaining troops with his music\, Robert’s generosity knows no bounds. \nNow\, it’s our turn to give back. With just ONE day\, we aim to turn Robert’s modest home into a sanctuary he deserves. But we can’t do it alone—we need YOU! Rally your friends\, spread the word\, and let’s build TWO solid shifts of volunteers. Under the leadership of SrA Richard Alfaro\, we’ll not only paint walls but also paint a brighter future for Robert. \nTogether\, let’s prove that in a world where projects may end\, the power of community and compassion endures. Join us\, and let’s make 2024 a year to remember for Robert and for us all! \nClick Here To Volunteer
URL:https://dyesswecareteam.com/blog/event/cockerell-drive-house-painting-project/
LOCATION:741 Cockerell Drive\, 741 Cockerell Dr\, Abilene\, TX\, 79601\, United States
ATTACH;FMTTYPE=image/jpeg:https://dyesswecareteam.com/blog/wp-content/uploads/2023/11/20221111-_NZ83073.jpg
END:VEVENT
END:VCALENDAR