BEGIN:VCALENDAR
VERSION:2.0
PRODID:-//Dyess We Care Team - ECPv6.15.20//NONSGML v1.0//EN
CALSCALE:GREGORIAN
METHOD:PUBLISH
X-WR-CALNAME:Dyess We Care Team
X-ORIGINAL-URL:https://dyesswecareteam.com/blog
X-WR-CALDESC:Events for Dyess We Care Team
REFRESH-INTERVAL;VALUE=DURATION:PT1H
X-Robots-Tag:noindex
X-PUBLISHED-TTL:PT1H
BEGIN:VTIMEZONE
TZID:America/Chicago
BEGIN:DAYLIGHT
TZOFFSETFROM:-0600
TZOFFSETTO:-0500
TZNAME:CDT
DTSTART:20230312T080000
END:DAYLIGHT
BEGIN:STANDARD
TZOFFSETFROM:-0500
TZOFFSETTO:-0600
TZNAME:CST
DTSTART:20231105T070000
END:STANDARD
BEGIN:DAYLIGHT
TZOFFSETFROM:-0600
TZOFFSETTO:-0500
TZNAME:CDT
DTSTART:20240310T080000
END:DAYLIGHT
BEGIN:STANDARD
TZOFFSETFROM:-0500
TZOFFSETTO:-0600
TZNAME:CST
DTSTART:20241103T070000
END:STANDARD
BEGIN:DAYLIGHT
TZOFFSETFROM:-0600
TZOFFSETTO:-0500
TZNAME:CDT
DTSTART:20250309T080000
END:DAYLIGHT
BEGIN:STANDARD
TZOFFSETFROM:-0500
TZOFFSETTO:-0600
TZNAME:CST
DTSTART:20251102T070000
END:STANDARD
END:VTIMEZONE
BEGIN:VEVENT
DTSTART;TZID=America/Chicago:20240217T090000
DTEND;TZID=America/Chicago:20240217T160000
DTSTAMP:20260424T224646
CREATED:20240125T005923Z
LAST-MODIFIED:20240213T141511Z
UID:5807-1708160400-1708185600@dyesswecareteam.com
SUMMARY:Clyde Boys & Girls Club
DESCRIPTION:Clyde Boys & Girls Club\nSaturday\, February 17th\n210 S. 3rd Street West\, Clyde TX\nCreating a SuperHero room and art gallery for the kids! We’ll provide lunch for this working both shifts! \nThe Team Leaders are A1C Anthony Jenkins and A1C Grant Bassett \nCLICK HERE TO VOLUNTEER
URL:https://dyesswecareteam.com/blog/event/clyde-boys-girls-club/
LOCATION:Clyde Boys & Girls Club\, 210 S 3rd St W\, Clyde\, TX\, 79510\, United States
ATTACH;FMTTYPE=image/jpeg:https://dyesswecareteam.com/blog/wp-content/uploads/2023/06/20230305-_NZ62011.jpg
END:VEVENT
END:VCALENDAR