BEGIN:VCALENDAR
VERSION:2.0
PRODID:-//Dyess We Care Team - ECPv6.15.20//NONSGML v1.0//EN
CALSCALE:GREGORIAN
METHOD:PUBLISH
X-WR-CALNAME:Dyess We Care Team
X-ORIGINAL-URL:https://dyesswecareteam.com/blog
X-WR-CALDESC:Events for Dyess We Care Team
REFRESH-INTERVAL;VALUE=DURATION:PT1H
X-Robots-Tag:noindex
X-PUBLISHED-TTL:PT1H
BEGIN:VTIMEZONE
TZID:America/Chicago
BEGIN:DAYLIGHT
TZOFFSETFROM:-0600
TZOFFSETTO:-0500
TZNAME:CDT
DTSTART:20220313T080000
END:DAYLIGHT
BEGIN:STANDARD
TZOFFSETFROM:-0500
TZOFFSETTO:-0600
TZNAME:CST
DTSTART:20221106T070000
END:STANDARD
BEGIN:DAYLIGHT
TZOFFSETFROM:-0600
TZOFFSETTO:-0500
TZNAME:CDT
DTSTART:20230312T080000
END:DAYLIGHT
BEGIN:STANDARD
TZOFFSETFROM:-0500
TZOFFSETTO:-0600
TZNAME:CST
DTSTART:20231105T070000
END:STANDARD
BEGIN:DAYLIGHT
TZOFFSETFROM:-0600
TZOFFSETTO:-0500
TZNAME:CDT
DTSTART:20240310T080000
END:DAYLIGHT
BEGIN:STANDARD
TZOFFSETFROM:-0500
TZOFFSETTO:-0600
TZNAME:CST
DTSTART:20241103T070000
END:STANDARD
END:VTIMEZONE
BEGIN:VEVENT
DTSTART;TZID=America/Chicago:20230415T090000
DTEND;TZID=America/Chicago:20230415T160000
DTSTAMP:20260425T232648
CREATED:20230405T231601Z
LAST-MODIFIED:20230405T231742Z
UID:5162-1681549200-1681574400@dyesswecareteam.com
SUMMARY:Serenity Suites Makeover
DESCRIPTION:Saturday\, April 15th\nInstall new sinks – Serenity Suites\nBuilding 7234\, Dyess AFB\nMore Info To Come
URL:https://dyesswecareteam.com/blog/event/serenity-suites-building-7234-dyess-afb/
LOCATION:Texas
ATTACH;FMTTYPE=image/jpeg:https://dyesswecareteam.com/blog/wp-content/uploads/2023/03/20230304-_NZ61612.jpg
END:VEVENT
BEGIN:VEVENT
DTSTART;TZID=America/Chicago:20230429T090000
DTEND;TZID=America/Chicago:20230429T160000
DTSTAMP:20260425T232648
CREATED:20230405T234817Z
LAST-MODIFIED:20230424T233311Z
UID:5174-1682758800-1682784000@dyesswecareteam.com
SUMMARY:Serenity Suites Makeover - Paint
DESCRIPTION:Serenity Suites Maker Over\nPainting Project\nSaturday\, April 29th beginning at 9:00 am\nBuilding 7234\, Dyess AFB\nSaturday\, April 29th & Sunday\, April 30th signup sheet\nCurrently known as the First Sergeant’s “Cool Down Rooms”\, soon will become their Serenity Suites\, offering a safe haven for Airmen in times of need. Currently outdated and drab\, soon will be modern and FAB! Part “A” will consist of painting the ceiling\, priming doors and trim\, and organizing donated items. \nCLICK HERE TO VOLUNTEER
URL:https://dyesswecareteam.com/blog/event/serenity-suites-makeover-paint/
LOCATION:Texas
ATTACH;FMTTYPE=image/jpeg:https://dyesswecareteam.com/blog/wp-content/uploads/2021/07/20210619-_NZ61044.jpg
END:VEVENT
END:VCALENDAR