BEGIN:VCALENDAR
VERSION:2.0
PRODID:-//Dyess We Care Team - ECPv6.15.20//NONSGML v1.0//EN
CALSCALE:GREGORIAN
METHOD:PUBLISH
X-WR-CALNAME:Dyess We Care Team
X-ORIGINAL-URL:https://dyesswecareteam.com/blog
X-WR-CALDESC:Events for Dyess We Care Team
REFRESH-INTERVAL;VALUE=DURATION:PT1H
X-Robots-Tag:noindex
X-PUBLISHED-TTL:PT1H
BEGIN:VTIMEZONE
TZID:UTC
BEGIN:STANDARD
TZOFFSETFROM:+0000
TZOFFSETTO:+0000
TZNAME:UTC
DTSTART:20240101T000000
END:STANDARD
END:VTIMEZONE
BEGIN:VTIMEZONE
TZID:America/Chicago
BEGIN:DAYLIGHT
TZOFFSETFROM:-0600
TZOFFSETTO:-0500
TZNAME:CDT
DTSTART:20240310T080000
END:DAYLIGHT
BEGIN:STANDARD
TZOFFSETFROM:-0500
TZOFFSETTO:-0600
TZNAME:CST
DTSTART:20241103T070000
END:STANDARD
BEGIN:DAYLIGHT
TZOFFSETFROM:-0600
TZOFFSETTO:-0500
TZNAME:CDT
DTSTART:20250309T080000
END:DAYLIGHT
BEGIN:STANDARD
TZOFFSETFROM:-0500
TZOFFSETTO:-0600
TZNAME:CST
DTSTART:20251102T070000
END:STANDARD
BEGIN:DAYLIGHT
TZOFFSETFROM:-0600
TZOFFSETTO:-0500
TZNAME:CDT
DTSTART:20260308T080000
END:DAYLIGHT
BEGIN:STANDARD
TZOFFSETFROM:-0500
TZOFFSETTO:-0600
TZNAME:CST
DTSTART:20261101T070000
END:STANDARD
BEGIN:DAYLIGHT
TZOFFSETFROM:-0600
TZOFFSETTO:-0500
TZNAME:CDT
DTSTART:20270314T080000
END:DAYLIGHT
BEGIN:STANDARD
TZOFFSETFROM:-0500
TZOFFSETTO:-0600
TZNAME:CST
DTSTART:20271107T070000
END:STANDARD
END:VTIMEZONE
BEGIN:VEVENT
DTSTART;TZID=UTC:20250712T103000
DTEND;TZID=UTC:20250712T163000
DTSTAMP:20260424T002909
CREATED:20170712T051208Z
LAST-MODIFIED:20250520T210344Z
UID:2761-1752316200-1752337800@dyesswecareteam.com
SUMMARY:All American Car Wash
DESCRIPTION:ALL AMERICAN CAR WASH! Saturday\,\nJULY 12th \n@ Statesman Coffee on S.14th\n(4574 S. 1st St)\n(S.E. corned of the Hobby Lobby parking lot)\n10:30 am – 4:30 pm\n  \n\nROCK THE RED\, WHITE & BLUE THEME\, and win our highly coveted CAPTAIN CARWASH AWARD! Judging will be based on Theme\, Originality\, Productivity and extra points for sign-holders and volunteers working BOTH shift!\n\n\nClick Here To Volunteer
URL:https://dyesswecareteam.com/blog/event/all-american-car-wash/
LOCATION:Statesman Coffee\, 4574 South 14th Street\, Abilene\, TX\, 79605\, United States
ATTACH;FMTTYPE=image/jpeg:https://dyesswecareteam.com/blog/wp-content/uploads/2021/07/20210717-_XT46414.jpg
END:VEVENT
BEGIN:VEVENT
DTSTART;TZID=UTC:20250802T170000
DTEND;TZID=UTC:20250802T193000
DTSTAMP:20260424T002909
CREATED:20170712T052050Z
LAST-MODIFIED:20250720T143348Z
UID:2767-1754154000-1754163000@dyesswecareteam.com
SUMMARY:2025 WCT Anniversary Awards Banquet
DESCRIPTION:Join us for The Dyess We Care Team\n25th Anniversary Awards Banquet\,\nSaturday\, August 2\, 5:00 PM at the MCM Elegante’ Suits\nJoin us for the 2025 Dyess We Care Team Awards Banquet on Saturday\, August 2nd at 17:00!  Head over to 4250 Ridgemont Drive\, Abilene\, TX 79606 for an evening of laughter\, inspiration\, and appreciation! \nIt’s not just any banquet — it’s THE night to honor those who’ve made a difference in our community! We’ll celebrate their hard work\, dedication\, and a touch of sparkle. ✨ \nAnd guess what? We’re the military’s ONLY CNN Hero recipients!  Featured on CNN and the Dr. Phil network twice in 2024 — now that’s a spotlight moment! \nPlus\, Life Of Pie will be providing dessert again this year!  Come for the pie\, stay for the recognition\, and leave with your heart full of gratitude (and maybe some pie leftovers too)! \nSave the date and let us know you’ll be there! Dress code: “PicNic Casual” — DWCT shirt and comfy shorts are perfect! \nDon’t miss out on this unforgettable evening! \nThis year\, we’re celebrating our top 20 volunteers with a complimentary banquet\, thanks to The Star Dealership and Quail Hollow!  Your donations will help make next year’s event just as great! \nDonations secure your meal ticket — don’t wait! Tickets are higher at the door\, so donate early! Volunteers\, if funds are tight\, The Star Auto Group will cover your night!  Contact Gordon Storey for your tickets (family included)! \nFor our 25th Anniversary\, donate $25 per person in your party (so\, for 2 people\, it would be a $50 donation) to enjoy the Texas Hamburger Buffet \, get our 25th Anniversary Challenge Coin\, and snag a limited edition DWCT “Patch” baseball cap 🧢 — a $65 value! \nLet’s celebrate 25 years of community service together! \n  \nPurchase Tickets
URL:https://dyesswecareteam.com/blog/event/wct-17th-anniversary-awards-banquet/
LOCATION:MCM Elegante Suites – Abilene\, 4250 Ridgemont Dr.\, Abilene\, TX\, 79606\, United States
ATTACH;FMTTYPE=image/jpeg:https://dyesswecareteam.com/blog/wp-content/uploads/2023/08/20230729-_DSC4457.jpg
END:VEVENT
BEGIN:VEVENT
DTSTART;TZID=UTC:20250829T083000
DTEND;TZID=UTC:20250831T160000
DTSTAMP:20260424T002909
CREATED:20160111T041605Z
LAST-MODIFIED:20250804T010354Z
UID:2226-1756456200-1756656000@dyesswecareteam.com
SUMMARY:Ben Richey Boys Ranch Chili Super Bowl
DESCRIPTION:In 1982 several Abilene business men became aware of the need that existed at the Abilene Boys Ranch.  Since most of these “Good Ole Boys” were chili cookers\, it was decided that the way to raise money would be to have a chili cook off.  The Chili Super Bowl was born.\nAmazing transformations have happened at the Ranch since the beginning of the cook off.  The Boys Ranch has since been renamed Ben Richey Boys Ranch in memory of its founder.  The Ranch has grown to be able to house 34 young men who attend local school\, churches and are active in the community\nFriday\, August 29 – Sunday\, August 31\nThe Chili Super Bowl is located six miles south of Abilene on FM 89 at the Old Settlers Reunion Grounds in Buffalo Gap Texas.\nBen Richey Annual Chili Bowl Weekend\nChange a Child’s Future – Volunteer With Us!\nFrom Friday to Sunday\, we need passionate volunteers to help turn this event into a life-changing success! Whether you’re selling raffle tickets\, serving tea\, making quick ice runs\, or judging delicious food\, every task you take on will directly help good kids from tough situations.\nEvery single dollar raised will go toward giving these children the opportunities\, safety\, and hope they truly deserve.\nTeam Leader SrA Doc Weaver is leading the charge — and we’d love YOU on our team! Your time\, heart\, and energy will make a lasting difference.\nCome out\, lend a hand\, and help turn challenges into second chances. Together\, we can make something truly special happen!\n  \nCLICK HERE TO VOLUNTEER
URL:https://dyesswecareteam.com/blog/event/ben-richey-boys-ranch-chili-super-bowl/
LOCATION:Old Settlers Reunion Grounds\, 817 Main St\, Buffalo Gap\, TX\, 79508\, United States
ATTACH;FMTTYPE=image/jpeg:https://dyesswecareteam.com/blog/wp-content/uploads/2016/01/Chili-Super-Bowl.jpg
END:VEVENT
BEGIN:VEVENT
DTSTART;TZID=America/Chicago:20250913T090000
DTEND;TZID=America/Chicago:20250913T160000
DTSTAMP:20260424T002909
CREATED:20250907T021159Z
LAST-MODIFIED:20250907T021159Z
UID:7960-1757754000-1757779200@dyesswecareteam.com
SUMMARY:3173 Bickley Street House Painting Project
DESCRIPTION:3173 Bickley Street House Painting Project\nSaturday\, September 13\, 2024\n9:00 am – 4:00 pm\nThe Dyess We Care Team is rolling up our sleeves on Bickley Street to help a disabled veteran in need\, and we can’t do it without you! This project will require volunteers in both the morning and the afternoon\, so whether you can spare a few hours or the whole day\, your help will make a life-changing difference. Leading the charge is TSgt Ian Wolfe\, our dedicated Team Leader\, with expert guidance from CMSgt Jason Chesonis\, the DWCT Ultimate Community Champion of 2025 and our Lead Carpenter for this project. Together\, we’ll combine skill\, teamwork\, and compassion to bring comfort and dignity to someone who served us all. If you want to work both shifts\, sign up for each; we will provide lunch for those working both shifts. \nCLICK HERE TO VOLUNTEER
URL:https://dyesswecareteam.com/blog/event/3173-bickley-street-house-painting-project/
LOCATION:3173 Bickley Street\, 3173 Bickley Street\, Abilene\, TX\, 79605\, United States
ATTACH;FMTTYPE=image/jpeg:https://dyesswecareteam.com/blog/wp-content/uploads/2025/07/20250628-_NZ86861.jpg
END:VEVENT
BEGIN:VEVENT
DTSTART;TZID=UTC:20250920T110000
DTEND;TZID=UTC:20250920T160000
DTSTAMP:20260424T002909
CREATED:20160822T013857Z
LAST-MODIFIED:20250916T135739Z
UID:2600-1758366000-1758384000@dyesswecareteam.com
SUMMARY:Operation Special Santa Car Wash
DESCRIPTION:Operation Special Santa Care Wash \n@ Statesman Coffee Company\nSaturday\, September 20\, 2025\n10:45am to 4:00pm\nAngel Tree and Toys for Tots help children at Christmas… but who makes sure veterans in nursing homes and adults with mental disabilities aren’t forgotten? \nWE DO! 🎅🚗 Through Operation Special Santa\, we wash cars for donations to bring Christmas to an often-overlooked part of our community. \n✨ DOUBLE YOUR IMPACT! ✨ \nThanks to Cordell’s and Willow Creek Gardens\, every donation will be matched dollar-for-dollar up to $1\,500! \nBut here’s the truth—without volunteers\, there’s no way to make it happen. Your time can turn into someone’s Christmas miracle. \n➡️ Join us. Make the difference. Be the miracle. \nClick Here To Volunteer\n\n 
URL:https://dyesswecareteam.com/blog/event/special-santa-car-wash/
LOCATION:Statesman Coffee\, 4574 South 14th Street\, Abilene\, TX\, 79605\, United States
ATTACH;FMTTYPE=image/jpeg:https://dyesswecareteam.com/blog/wp-content/uploads/2021/07/20210717-_XT46402.jpg
END:VEVENT
BEGIN:VEVENT
DTSTART;TZID=America/Chicago:20251011T090000
DTEND;TZID=America/Chicago:20251011T160000
DTSTAMP:20260424T002909
CREATED:20250928T153042Z
LAST-MODIFIED:20250928T153125Z
UID:8089-1760173200-1760198400@dyesswecareteam.com
SUMMARY:1957 Shelton Street Paint Project
DESCRIPTION:Saturday October 11\, 2025\n9:00 am – 4:00 pm\n1957 Shelton Street\nGranny’s daughter reached out with a heartfelt request to give her Mom’s home a fresh\, new look—and she was so trusting\, she left the choice of colors entirely up to us! To make it even more special\, we turned it over to the public with a social media vote\, letting the community pick the winning colors for her home.\nCLICK HERE TO VOLUNTEER
URL:https://dyesswecareteam.com/blog/event/1957-shelton-street/
LOCATION:1957 Shelton Street\, 1957 Shelton Street\, Abilene\, TX\, 79603\, United States
ATTACH;FMTTYPE=image/jpeg:https://dyesswecareteam.com/blog/wp-content/uploads/2025/09/WCT-Bickley-Street-38.jpg
END:VEVENT
BEGIN:VEVENT
DTSTART;TZID=America/Chicago:20251115T090000
DTEND;TZID=America/Chicago:20251115T160000
DTSTAMP:20260424T002909
CREATED:20251110T033621Z
LAST-MODIFIED:20251110T034812Z
UID:8204-1763197200-1763222400@dyesswecareteam.com
SUMMARY:Disability Resources Painting Assistance
DESCRIPTION:Saturday\, November 15th\, 2025\nDisability Resources\, Inc.\n9:00 am to 4:00 pm\n3602 North Clack Street\nThis Saturday we will lend a hand to a Non-Profit’s over-worked Maintenance Team. We will help paint homes used to care for adults with mental and physical incapacitation. In addition\, we need strong arms to remove floor tiles (anyone who has the scrappers please bring!)\, and pretty much any additional assistance they need. For those working all day\, PLEASE sign up for BOTH shifts\, and we will provide lunch. \nCLICK HERE TO VOLUNTEER
URL:https://dyesswecareteam.com/blog/event/disability-resources-assistance/
LOCATION:Disability Resource\, 3602 North Clack Street\, Abilene\, TX\, 79601\, United States
ATTACH;FMTTYPE=image/jpeg:https://dyesswecareteam.com/blog/wp-content/uploads/2025/05/2025-HHC-Horse-Stables-8.jpg
END:VEVENT
BEGIN:VEVENT
DTSTART;TZID=America/Chicago:20251206T094500
DTEND;TZID=America/Chicago:20251206T140000
DTSTAMP:20260424T002909
CREATED:20231117T013733Z
LAST-MODIFIED:20251124T005712Z
UID:5789-1765014300-1765029600@dyesswecareteam.com
SUMMARY:Ben Richey Christmas Shopping
DESCRIPTION:Christmas Shopping with Ben Richey Ranch kids; Saturday\, December 6th @ 9:45 AM signup sheet\nOur volunteers will take the boys from Ben Richey Boys Ranch Christmas shopping to pick out thoughtful gifts for their families\, helping them stay within their individual budgets and make meaningful choices. Afterward\, we’ll assist them with gift-wrapping everything so they’re ready for Christmas morning. To celebrate their hard work and generosity\, we’ll finish the evening with a fun pizza outing at Potter’s Pizza. \n  \nCLICK HERE TO VOLUNTEER
URL:https://dyesswecareteam.com/blog/event/ben-richey-christmas-shopping/
LOCATION:Ben Richey Boy’s Ranch\, 501 Ben Richey Drive\, Abilene\, TX\, 79602\, United States
END:VEVENT
BEGIN:VEVENT
DTSTART;TZID=America/Chicago:20251213T090000
DTEND;TZID=America/Chicago:20251213T120000
DTSTAMP:20260424T002909
CREATED:20251124T010530Z
LAST-MODIFIED:20251124T010530Z
UID:8215-1765616400-1765627200@dyesswecareteam.com
SUMMARY:Friends For Life - Christmas Gift Wrapping
DESCRIPTION:12-13-25 @ 400 Oak Street\, Suit 170\nOur volunteers will join Friends For Life to help wrap Christmas gifts for the elderly and disabled\, ensuring each present is prepared with care and dignity. We also need volunteers to help deliver these gifts to those we serve\, spreading holiday joy directly to their doorsteps. After the wrapping is complete\, we will treat our volunteers to lunch as a small thank-you for their generosity and time. \nCLICK HERE TO VOLUNTEER
URL:https://dyesswecareteam.com/blog/event/friends-for-life-christmas-gift-wrapping/
LOCATION:Friends For Life\, 400 Oak Street\, Abilene\, TX\, 79602\, United States
END:VEVENT
BEGIN:VEVENT
DTSTART;TZID=America/Chicago:20260131T090000
DTEND;TZID=America/Chicago:20260131T160000
DTSTAMP:20260424T002909
CREATED:20260120T052930Z
LAST-MODIFIED:20260120T052930Z
UID:8289-1769850000-1769875200@dyesswecareteam.com
SUMMARY:VFW Project Renovation Start
DESCRIPTION:Saturday\, January 31\, 2026\nBeginning @ 9:00 am\nVFW Post 6873\n1049 Veterans Dr\, Abilene\, TX 79605\nNeed volunteers to prep for paint and prime… EVERYTHING!\nCLICK HERE TO VOLUNTEER
URL:https://dyesswecareteam.com/blog/event/vfw-project-renovation-start/
LOCATION:VFW Post 6873\, 1049 Veterans Dr\,\, Abilene\, TX\, 79605\, United States
ATTACH;FMTTYPE=image/jpeg:https://dyesswecareteam.com/blog/wp-content/uploads/2025/05/2025-HHC-Horse-Stables-25.jpg
END:VEVENT
BEGIN:VEVENT
DTSTART;TZID=America/Chicago:20260207T090000
DTEND;TZID=America/Chicago:20260207T170000
DTSTAMP:20260424T002909
CREATED:20260125T001833Z
LAST-MODIFIED:20260205T035342Z
UID:8302-1770454800-1770483600@dyesswecareteam.com
SUMMARY:VFW Make Over - Phase II
DESCRIPTION:Saturday\, February 7\, 2026 @ 9:00 am\n1049 Veterans Dr\, Abilene TX\nDyess We Care Team VFW Renovation Project \nFor generations\, the Veterans of Foreign Wars has stood as more than just a building—it is a sanctuary. A place where stories are shared\, burdens are set down\, and no veteran stands alone. The VFW represents sacrifice\, service\, and the unbreakable bond between those who have worn the uniform and the nation they defended. \nNow\, it’s our turn to serve them.\nThe Dyess We Care Team is proud to take on a multi-weekend renovation of our local VFW—an investment not just in a facility\, but in the men and women who rely on it. This space supports combat veterans\, active-duty service members\, and military families. It hosts meetings\, remembrance ceremonies\, peer support\, and moments of healing that will continue long after the paint dries and the tools are packed away.\nThis project is about legacy.\nIt’s about ensuring that when a veteran walks through those doors—today or twenty years from now—they feel honored\, welcomed\, and remembered.\nWe will be working over several weekends with two shifts each day:\nMorning Shift: 0900\nAfternoon Shift: 1300\nIf you want to put in a full day of service\, we encourage you to sign up for both shifts. For those working both\, lunch will be provided—our way of taking care of the team that’s taking care of our veterans. \nCLICK HERE TO VOLUNTEER\n 
URL:https://dyesswecareteam.com/blog/event/vfw-make-over-phase-ii/
LOCATION:VFW Post 6873\, 1049 Veterans Dr\,\, Abilene\, TX\, 79605\, United States
ATTACH;FMTTYPE=image/jpeg:https://dyesswecareteam.com/blog/wp-content/uploads/2026/02/WCT_VFW-P1-6.jpg
END:VEVENT
BEGIN:VEVENT
DTSTART;TZID=America/Chicago:20260221T090000
DTEND;TZID=America/Chicago:20260221T170000
DTSTAMP:20260424T002909
CREATED:20260125T002331Z
LAST-MODIFIED:20260205T035449Z
UID:8305-1771664400-1771693200@dyesswecareteam.com
SUMMARY:VFW Make Over - Phase III
DESCRIPTION:Saturday\, February 21\, 2026 @ 9:00am\n1049 Veterans Dr\, Abilene TX\nDyess We Care Team VFW Renovation Project \nFor generations\, the Veterans of Foreign Wars has stood as more than just a building—it is a sanctuary. A place where stories are shared\, burdens are set down\, and no veteran stands alone. The VFW represents sacrifice\, service\, and the unbreakable bond between those who have worn the uniform and the nation they defended. \nNow\, it’s our turn to serve them.\nThe Dyess We Care Team is proud to take on a multi-weekend renovation of our local VFW—an investment not just in a facility\, but in the men and women who rely on it. This space supports combat veterans\, active-duty service members\, and military families. It hosts meetings\, remembrance ceremonies\, peer support\, and moments of healing that will continue long after the paint dries and the tools are packed away.\nThis project is about legacy.\nIt’s about ensuring that when a veteran walks through those doors—today or twenty years from now—they feel honored\, welcomed\, and remembered.\nWe will be working over several weekends with two shifts each day:\nMorning Shift: 0900\nAfternoon Shift: 1300\nIf you want to put in a full day of service\, we encourage you to sign up for both shifts. For those working both\, lunch will be provided—our way of taking care of the team that’s taking care of our veterans. \nCLICK HERE TO VOLUNTEER
URL:https://dyesswecareteam.com/blog/event/vfw-make-over-phase-iii/
LOCATION:VFW Post 6873\, 1049 Veterans Dr\,\, Abilene\, TX\, 79605\, United States
ATTACH;FMTTYPE=image/jpeg:https://dyesswecareteam.com/blog/wp-content/uploads/2026/02/WCT_VFW-P1-16.jpg
ORGANIZER;CN="Day Nursery of Abilene":MAILTO:daynursery@daynurseryabilene.org
END:VEVENT
BEGIN:VEVENT
DTSTART;TZID=America/Chicago:20260314T090000
DTEND;TZID=America/Chicago:20260314T170000
DTSTAMP:20260424T002909
CREATED:20260125T002736Z
LAST-MODIFIED:20260301T142643Z
UID:8308-1773478800-1773507600@dyesswecareteam.com
SUMMARY:VFW Make Over - Phase IV
DESCRIPTION:Saturday\, March 14\, 2026 @ 9:00 am\n1049 Veterans Dr\, Abilene TX\nDyess We Care Team VFW Renovation Project \nFor generations\, the Veterans of Foreign Wars has stood as more than just a building—it is a sanctuary. A place where stories are shared\, burdens are set down\, and no veteran stands alone. The VFW represents sacrifice\, service\, and the unbreakable bond between those who have worn the uniform and the nation they defended. \nNow\, it’s our turn to serve them.\nThe Dyess We Care Team is proud to take on a multi-weekend renovation of our local VFW—an investment not just in a facility\, but in the men and women who rely on it. This space supports combat veterans\, active-duty service members\, and military families. It hosts meetings\, remembrance ceremonies\, peer support\, and moments of healing that will continue long after the paint dries and the tools are packed away.\nThis project is about legacy.\nIt’s about ensuring that when a veteran walks through those doors—today or twenty years from now—they feel honored\, welcomed\, and remembered.\nWe will be working over several weekends with two shifts each day:\nMorning Shift: 0900\nAfternoon Shift: 1300\nIf you want to put in a full day of service\, we encourage you to sign up for both shifts. For those working both\, lunch will be provided—our way of taking care of the team that’s taking care of our veterans. \nCLICK HERE TO VOLUNTEER
URL:https://dyesswecareteam.com/blog/event/vfw-make-over-phase-iv/
LOCATION:VFW Post 6873\, 1049 Veterans Dr\,\, Abilene\, TX\, 79605\, United States
ATTACH;FMTTYPE=image/jpeg:https://dyesswecareteam.com/blog/wp-content/uploads/2026/02/WCT_VFW-P1-54.jpg
END:VEVENT
BEGIN:VEVENT
DTSTART;TZID=America/Chicago:20260502T090000
DTEND;TZID=America/Chicago:20260502T160000
DTSTAMP:20260424T002909
CREATED:20260404T215936Z
LAST-MODIFIED:20260423T031921Z
UID:8657-1777712400-1777737600@dyesswecareteam.com
SUMMARY:North 7th House Paint Project
DESCRIPTION:Saturday May 2\, 2026\nHouse Painting Project\n1634 North 7th St\n9:00 AM to 4:00 PM\nThe Dyess We Care Team will kick off its first home transformation project of 2026 on Saturday\, April 11th\, with a powerful mission: serving a disabled Marine veteran and amputee in the Abilene community. \nBeginning at 9:00 AM and a second shift at noon\, more than 40 students from Dyess Airmen Leadership School will join forces with core Dyess We Care Team volunteers and community partner Honey Do Services\, Inc. to completely repaint the veteran’s home located at 1634 North 7th Street. This is more than restoring a house\, but a sense of pride and dignity for a veteran.\nOverseeing this ambitious effort is Team Leader SSgt Chris Bryant\, who will be guiding the project from start to finish and mentoring the next generation of Air Force leaders throughout the day. \nThe homeowner\, Mr. Padilla\, has entrusted the entire design to the team. In a meaningful departure from our usual colorful pallet\, our volunteers are embracing a bold black-and-white color scheme that we chose to reflect strength and a timeless\, masculine character fitting of a Marine. \nCLICK HERE TO VOLUNTEER
URL:https://dyesswecareteam.com/blog/event/north-7th-house-paint-project/
LOCATION:1634 North 7th St\, 1634 North 7th St\, Abilene\, Texas\, 79601
ATTACH;FMTTYPE=image/jpeg:https://dyesswecareteam.com/blog/wp-content/uploads/2025/11/2025-WCT-Shelton-Street-7.jpg
END:VEVENT
END:VCALENDAR