BEGIN:VCALENDAR
VERSION:2.0
PRODID:-//Dyess We Care Team - ECPv6.15.20//NONSGML v1.0//EN
CALSCALE:GREGORIAN
METHOD:PUBLISH
X-WR-CALNAME:Dyess We Care Team
X-ORIGINAL-URL:https://dyesswecareteam.com/blog
X-WR-CALDESC:Events for Dyess We Care Team
REFRESH-INTERVAL;VALUE=DURATION:PT1H
X-Robots-Tag:noindex
X-PUBLISHED-TTL:PT1H
BEGIN:VTIMEZONE
TZID:America/Chicago
BEGIN:DAYLIGHT
TZOFFSETFROM:-0600
TZOFFSETTO:-0500
TZNAME:CDT
DTSTART:20250309T080000
END:DAYLIGHT
BEGIN:STANDARD
TZOFFSETFROM:-0500
TZOFFSETTO:-0600
TZNAME:CST
DTSTART:20251102T070000
END:STANDARD
BEGIN:DAYLIGHT
TZOFFSETFROM:-0600
TZOFFSETTO:-0500
TZNAME:CDT
DTSTART:20260308T080000
END:DAYLIGHT
BEGIN:STANDARD
TZOFFSETFROM:-0500
TZOFFSETTO:-0600
TZNAME:CST
DTSTART:20261101T070000
END:STANDARD
BEGIN:DAYLIGHT
TZOFFSETFROM:-0600
TZOFFSETTO:-0500
TZNAME:CDT
DTSTART:20270314T080000
END:DAYLIGHT
BEGIN:STANDARD
TZOFFSETFROM:-0500
TZOFFSETTO:-0600
TZNAME:CST
DTSTART:20271107T070000
END:STANDARD
END:VTIMEZONE
BEGIN:VEVENT
DTSTART;TZID=America/Chicago:20260502T090000
DTEND;TZID=America/Chicago:20260502T160000
DTSTAMP:20260423T052437
CREATED:20260404T215936Z
LAST-MODIFIED:20260423T031921Z
UID:8657-1777712400-1777737600@dyesswecareteam.com
SUMMARY:North 7th House Paint Project
DESCRIPTION:Saturday May 2\, 2026\nHouse Painting Project\n1634 North 7th St\n9:00 AM to 4:00 PM\nThe Dyess We Care Team will kick off its first home transformation project of 2026 on Saturday\, April 11th\, with a powerful mission: serving a disabled Marine veteran and amputee in the Abilene community. \nBeginning at 9:00 AM and a second shift at noon\, more than 40 students from Dyess Airmen Leadership School will join forces with core Dyess We Care Team volunteers and community partner Honey Do Services\, Inc. to completely repaint the veteran’s home located at 1634 North 7th Street. This is more than restoring a house\, but a sense of pride and dignity for a veteran.\nOverseeing this ambitious effort is Team Leader SSgt Chris Bryant\, who will be guiding the project from start to finish and mentoring the next generation of Air Force leaders throughout the day. \nThe homeowner\, Mr. Padilla\, has entrusted the entire design to the team. In a meaningful departure from our usual colorful pallet\, our volunteers are embracing a bold black-and-white color scheme that we chose to reflect strength and a timeless\, masculine character fitting of a Marine. \nCLICK HERE TO VOLUNTEER
URL:https://dyesswecareteam.com/blog/event/north-7th-house-paint-project/
LOCATION:1634 North 7th St\, 1634 North 7th St\, Abilene\, Texas\, 79601
ATTACH;FMTTYPE=image/jpeg:https://dyesswecareteam.com/blog/wp-content/uploads/2025/11/2025-WCT-Shelton-Street-7.jpg
END:VEVENT
END:VCALENDAR