BEGIN:VCALENDAR
VERSION:2.0
PRODID:-//Dyess We Care Team - ECPv6.15.20//NONSGML v1.0//EN
CALSCALE:GREGORIAN
METHOD:PUBLISH
X-ORIGINAL-URL:https://dyesswecareteam.com/blog
X-WR-CALDESC:Events for Dyess We Care Team
REFRESH-INTERVAL;VALUE=DURATION:PT1H
X-Robots-Tag:noindex
X-PUBLISHED-TTL:PT1H
BEGIN:VTIMEZONE
TZID:America/Chicago
BEGIN:DAYLIGHT
TZOFFSETFROM:-0600
TZOFFSETTO:-0500
TZNAME:CDT
DTSTART:20240310T080000
END:DAYLIGHT
BEGIN:STANDARD
TZOFFSETFROM:-0500
TZOFFSETTO:-0600
TZNAME:CST
DTSTART:20241103T070000
END:STANDARD
BEGIN:DAYLIGHT
TZOFFSETFROM:-0600
TZOFFSETTO:-0500
TZNAME:CDT
DTSTART:20250309T080000
END:DAYLIGHT
BEGIN:STANDARD
TZOFFSETFROM:-0500
TZOFFSETTO:-0600
TZNAME:CST
DTSTART:20251102T070000
END:STANDARD
BEGIN:DAYLIGHT
TZOFFSETFROM:-0600
TZOFFSETTO:-0500
TZNAME:CDT
DTSTART:20260308T080000
END:DAYLIGHT
BEGIN:STANDARD
TZOFFSETFROM:-0500
TZOFFSETTO:-0600
TZNAME:CST
DTSTART:20261101T070000
END:STANDARD
END:VTIMEZONE
BEGIN:VEVENT
DTSTART;TZID=America/Chicago:20250913T090000
DTEND;TZID=America/Chicago:20250913T160000
DTSTAMP:20260423T190406
CREATED:20250907T021159Z
LAST-MODIFIED:20250907T021159Z
UID:7960-1757754000-1757779200@dyesswecareteam.com
SUMMARY:3173 Bickley Street House Painting Project
DESCRIPTION:3173 Bickley Street House Painting Project\nSaturday\, September 13\, 2024\n9:00 am – 4:00 pm\nThe Dyess We Care Team is rolling up our sleeves on Bickley Street to help a disabled veteran in need\, and we can’t do it without you! This project will require volunteers in both the morning and the afternoon\, so whether you can spare a few hours or the whole day\, your help will make a life-changing difference. Leading the charge is TSgt Ian Wolfe\, our dedicated Team Leader\, with expert guidance from CMSgt Jason Chesonis\, the DWCT Ultimate Community Champion of 2025 and our Lead Carpenter for this project. Together\, we’ll combine skill\, teamwork\, and compassion to bring comfort and dignity to someone who served us all. If you want to work both shifts\, sign up for each; we will provide lunch for those working both shifts. \nCLICK HERE TO VOLUNTEER
URL:https://dyesswecareteam.com/blog/event/3173-bickley-street-house-painting-project/
LOCATION:3173 Bickley Street\, 3173 Bickley Street\, Abilene\, TX\, 79605\, United States
ATTACH;FMTTYPE=image/jpeg:https://dyesswecareteam.com/blog/wp-content/uploads/2025/07/20250628-_NZ86861.jpg
END:VEVENT
END:VCALENDAR