BEGIN:VCALENDAR
VERSION:2.0
PRODID:-//Dyess We Care Team - ECPv6.15.20//NONSGML v1.0//EN
CALSCALE:GREGORIAN
METHOD:PUBLISH
X-ORIGINAL-URL:https://dyesswecareteam.com/blog
X-WR-CALDESC:Events for Dyess We Care Team
REFRESH-INTERVAL;VALUE=DURATION:PT1H
X-Robots-Tag:noindex
X-PUBLISHED-TTL:PT1H
BEGIN:VTIMEZONE
TZID:America/Chicago
BEGIN:DAYLIGHT
TZOFFSETFROM:-0600
TZOFFSETTO:-0500
TZNAME:CDT
DTSTART:20230312T080000
END:DAYLIGHT
BEGIN:STANDARD
TZOFFSETFROM:-0500
TZOFFSETTO:-0600
TZNAME:CST
DTSTART:20231105T070000
END:STANDARD
BEGIN:DAYLIGHT
TZOFFSETFROM:-0600
TZOFFSETTO:-0500
TZNAME:CDT
DTSTART:20240310T080000
END:DAYLIGHT
BEGIN:STANDARD
TZOFFSETFROM:-0500
TZOFFSETTO:-0600
TZNAME:CST
DTSTART:20241103T070000
END:STANDARD
BEGIN:DAYLIGHT
TZOFFSETFROM:-0600
TZOFFSETTO:-0500
TZNAME:CDT
DTSTART:20250309T080000
END:DAYLIGHT
BEGIN:STANDARD
TZOFFSETFROM:-0500
TZOFFSETTO:-0600
TZNAME:CST
DTSTART:20251102T070000
END:STANDARD
END:VTIMEZONE
BEGIN:VEVENT
DTSTART;TZID=America/Chicago:20241123T090000
DTEND;TZID=America/Chicago:20241123T160000
DTSTAMP:20260424T103318
CREATED:20241114T183822Z
LAST-MODIFIED:20241114T192041Z
UID:7032-1732352400-1732377600@dyesswecareteam.com
SUMMARY:5558 Capitol Ave
DESCRIPTION:House Painting Project\nSaturday\, November 23\, 2024\n9:00 am to 4:00 pm\n5558 Capitol Ave\n  \nPainting the home of an elderly\, disabled woman on a fixed income.\nThe Team Leader is A1C Zach Finn and our lead carpenters are from Honey Do services.\nCLICK HERE TO VOLUNTEER
URL:https://dyesswecareteam.com/blog/event/5558-capitol-ave/
LOCATION:5558 Capitol Ave\, 5558 Capitol Ave\, Abilene\, TX\, 79603\, United States
ATTACH;FMTTYPE=image/jpeg:https://dyesswecareteam.com/blog/wp-content/uploads/2024/10/20241026-_NZ85991.jpg
END:VEVENT
END:VCALENDAR