BEGIN:VCALENDAR
VERSION:2.0
PRODID:-//Dyess We Care Team - ECPv6.15.20//NONSGML v1.0//EN
CALSCALE:GREGORIAN
METHOD:PUBLISH
X-WR-CALNAME:Dyess We Care Team
X-ORIGINAL-URL:https://dyesswecareteam.com/blog
X-WR-CALDESC:Events for Dyess We Care Team
REFRESH-INTERVAL;VALUE=DURATION:PT1H
X-Robots-Tag:noindex
X-PUBLISHED-TTL:PT1H
BEGIN:VTIMEZONE
TZID:America/Chicago
BEGIN:DAYLIGHT
TZOFFSETFROM:-0600
TZOFFSETTO:-0500
TZNAME:CDT
DTSTART:20230312T080000
END:DAYLIGHT
BEGIN:STANDARD
TZOFFSETFROM:-0500
TZOFFSETTO:-0600
TZNAME:CST
DTSTART:20231105T070000
END:STANDARD
BEGIN:DAYLIGHT
TZOFFSETFROM:-0600
TZOFFSETTO:-0500
TZNAME:CDT
DTSTART:20240310T080000
END:DAYLIGHT
BEGIN:STANDARD
TZOFFSETFROM:-0500
TZOFFSETTO:-0600
TZNAME:CST
DTSTART:20241103T070000
END:STANDARD
BEGIN:DAYLIGHT
TZOFFSETFROM:-0600
TZOFFSETTO:-0500
TZNAME:CDT
DTSTART:20250309T080000
END:DAYLIGHT
BEGIN:STANDARD
TZOFFSETFROM:-0500
TZOFFSETTO:-0600
TZNAME:CST
DTSTART:20251102T070000
END:STANDARD
END:VTIMEZONE
BEGIN:VEVENT
DTSTART;TZID=America/Chicago:20241019T110000
DTEND;TZID=America/Chicago:20241019T160000
DTSTAMP:20260424T114000
CREATED:20240920T031454Z
LAST-MODIFIED:20250916T135405Z
UID:6730-1729335600-1729353600@dyesswecareteam.com
SUMMARY:Operation Special Santa Car Wash Old
DESCRIPTION:Saturday\, October 19\, 2024 – 11am to 4pm\nOperation Special Santa @ Statesman Coffee \n(SE Corner of Hobby Lobby parking lot)\nAngel Tree and Toys For Tots helps get gifts for underprivileged children\, but who makes it possible for veterans in nursing homes and adults with mental disabilities to have gifts?? \nWE DO!!! By washing cars for donations\, Operation Special Santa brings Christmas to the unacknowledged population in our community. *** DONATION MATCH!! We have TWO businesses offering a donation match (Cordell’s & Willow Creek Gardens) who will match ALL donations (up to $1\,500)!! But… if we don’t have the volunteers then we don’t have the ability to make this happen. Come on! Be someone’s Christmas miracle! \nThe Team Leaders are A1Cs Foley and Stang. \nCLICK HERE TO VOLUNTEER
URL:https://dyesswecareteam.com/blog/event/operation-special-santa-car-wash/
LOCATION:Statesman Coffee\, 4574 South 14th Street\, Abilene\, TX\, 79605\, United States
ATTACH;FMTTYPE=image/jpeg:https://dyesswecareteam.com/blog/wp-content/uploads/2024/08/20240713-_NZ84439.jpg
END:VEVENT
END:VCALENDAR