BEGIN:VCALENDAR
VERSION:2.0
PRODID:-//Dyess We Care Team - ECPv6.15.20//NONSGML v1.0//EN
CALSCALE:GREGORIAN
METHOD:PUBLISH
X-ORIGINAL-URL:https://dyesswecareteam.com/blog
X-WR-CALDESC:Events for Dyess We Care Team
REFRESH-INTERVAL;VALUE=DURATION:PT1H
X-Robots-Tag:noindex
X-PUBLISHED-TTL:PT1H
BEGIN:VTIMEZONE
TZID:America/Chicago
BEGIN:DAYLIGHT
TZOFFSETFROM:-0600
TZOFFSETTO:-0500
TZNAME:CDT
DTSTART:20230312T080000
END:DAYLIGHT
BEGIN:STANDARD
TZOFFSETFROM:-0500
TZOFFSETTO:-0600
TZNAME:CST
DTSTART:20231105T070000
END:STANDARD
BEGIN:DAYLIGHT
TZOFFSETFROM:-0600
TZOFFSETTO:-0500
TZNAME:CDT
DTSTART:20240310T080000
END:DAYLIGHT
BEGIN:STANDARD
TZOFFSETFROM:-0500
TZOFFSETTO:-0600
TZNAME:CST
DTSTART:20241103T070000
END:STANDARD
BEGIN:DAYLIGHT
TZOFFSETFROM:-0600
TZOFFSETTO:-0500
TZNAME:CDT
DTSTART:20250309T080000
END:DAYLIGHT
BEGIN:STANDARD
TZOFFSETFROM:-0500
TZOFFSETTO:-0600
TZNAME:CST
DTSTART:20251102T070000
END:STANDARD
END:VTIMEZONE
BEGIN:VEVENT
DTSTART;TZID=America/Chicago:20240914T090000
DTEND;TZID=America/Chicago:20240914T160000
DTSTAMP:20260424T143450
CREATED:20240906T011939Z
LAST-MODIFIED:20240906T011939Z
UID:6722-1726304400-1726329600@dyesswecareteam.com
SUMMARY:601 Shelton Street Project
DESCRIPTION:Saturday\, September 14\, 2024\n601 Shelton Street Paint Project\n9:00 am – 4:00 pm\nHelping a elderly\, disabled woman needing her home painted and her wheelchair ramp stained. We will provide lunch for those who sign up for BOTH shifts (Please ensure to sign up for both the morning and afternoon if you are planning to work all day). The Team Leader is SMSgt Jason Chesonis.\nCLICK HERE TO VOLUNTEER
URL:https://dyesswecareteam.com/blog/event/601-shelton-street-project/
LOCATION:601 Shelton Street Project\, 601 Shelton Street\, Abilene\, TX\, 79603\, United States
ATTACH;FMTTYPE=image/jpeg:https://dyesswecareteam.com/blog/wp-content/uploads/2024/08/20240727-_NZ84612.jpg
END:VEVENT
END:VCALENDAR