BEGIN:VCALENDAR
VERSION:2.0
PRODID:-//Dyess We Care Team - ECPv6.15.20//NONSGML v1.0//EN
CALSCALE:GREGORIAN
METHOD:PUBLISH
X-ORIGINAL-URL:https://dyesswecareteam.com/blog
X-WR-CALDESC:Events for Dyess We Care Team
REFRESH-INTERVAL;VALUE=DURATION:PT1H
X-Robots-Tag:noindex
X-PUBLISHED-TTL:PT1H
BEGIN:VTIMEZONE
TZID:America/Chicago
BEGIN:DAYLIGHT
TZOFFSETFROM:-0600
TZOFFSETTO:-0500
TZNAME:CDT
DTSTART:20220313T080000
END:DAYLIGHT
BEGIN:STANDARD
TZOFFSETFROM:-0500
TZOFFSETTO:-0600
TZNAME:CST
DTSTART:20221106T070000
END:STANDARD
BEGIN:DAYLIGHT
TZOFFSETFROM:-0600
TZOFFSETTO:-0500
TZNAME:CDT
DTSTART:20230312T080000
END:DAYLIGHT
BEGIN:STANDARD
TZOFFSETFROM:-0500
TZOFFSETTO:-0600
TZNAME:CST
DTSTART:20231105T070000
END:STANDARD
BEGIN:DAYLIGHT
TZOFFSETFROM:-0600
TZOFFSETTO:-0500
TZNAME:CDT
DTSTART:20240310T080000
END:DAYLIGHT
BEGIN:STANDARD
TZOFFSETFROM:-0500
TZOFFSETTO:-0600
TZNAME:CST
DTSTART:20241103T070000
END:STANDARD
END:VTIMEZONE
BEGIN:VEVENT
DTSTART;TZID=America/Chicago:20231111T130000
DTEND;TZID=America/Chicago:20231111T160000
DTSTAMP:20260425T094633
CREATED:20230918T022626Z
LAST-MODIFIED:20231105T174404Z
UID:5544-1699707600-1699718400@dyesswecareteam.com
SUMMARY:North 8th Street Paint Project
DESCRIPTION:Saturday\, November 11th @ 1742 N. 8th Street\n1:00 pm to 4:00 pm\nWe Are Almost Done But There Is Still More Work To Be Completed\nWe Need Your Help!\nMr. Gibson\, a 65-year-old on $900/month disability benefits\, faces fines due to his home not meeting city code. Despite trying to paint and repair it\, his back pain hinders progress. Resolving these issues is crucial to preserving his cherished home.\nWe are ALMOST done! We just need to finish up the trim! We’ll have to work in the afternoon\, because you need 60 degrees to paint outside.\nPLEASE CARPOOL IF YOU CAN! You might need to park at a school located just a couple of houses down\, WEST of the home.\n  \nCLICK HERE TO VOLUNTEER
URL:https://dyesswecareteam.com/blog/event/north-8th-street-paint-project/
LOCATION:1742 North 8th Street\, 1742 North 8th Street\, Abilene\, TX\, 79603\, United States
ATTACH;FMTTYPE=image/jpeg:https://dyesswecareteam.com/blog/wp-content/uploads/2023/06/20230617-_NZ64577.jpg
END:VEVENT
END:VCALENDAR