BEGIN:VCALENDAR
VERSION:2.0
PRODID:-//Dyess We Care Team - ECPv6.15.20//NONSGML v1.0//EN
CALSCALE:GREGORIAN
METHOD:PUBLISH
X-WR-CALNAME:Dyess We Care Team
X-ORIGINAL-URL:https://dyesswecareteam.com/blog
X-WR-CALDESC:Events for Dyess We Care Team
REFRESH-INTERVAL;VALUE=DURATION:PT1H
X-Robots-Tag:noindex
X-PUBLISHED-TTL:PT1H
BEGIN:VTIMEZONE
TZID:America/Chicago
BEGIN:DAYLIGHT
TZOFFSETFROM:-0600
TZOFFSETTO:-0500
TZNAME:CDT
DTSTART:20220313T080000
END:DAYLIGHT
BEGIN:STANDARD
TZOFFSETFROM:-0500
TZOFFSETTO:-0600
TZNAME:CST
DTSTART:20221106T070000
END:STANDARD
BEGIN:DAYLIGHT
TZOFFSETFROM:-0600
TZOFFSETTO:-0500
TZNAME:CDT
DTSTART:20230312T080000
END:DAYLIGHT
BEGIN:STANDARD
TZOFFSETFROM:-0500
TZOFFSETTO:-0600
TZNAME:CST
DTSTART:20231105T070000
END:STANDARD
BEGIN:DAYLIGHT
TZOFFSETFROM:-0600
TZOFFSETTO:-0500
TZNAME:CDT
DTSTART:20240310T080000
END:DAYLIGHT
BEGIN:STANDARD
TZOFFSETFROM:-0500
TZOFFSETTO:-0600
TZNAME:CST
DTSTART:20241103T070000
END:STANDARD
END:VTIMEZONE
BEGIN:VEVENT
DTSTART;TZID=America/Chicago:20230311T090000
DTEND;TZID=America/Chicago:20230311T160000
DTSTAMP:20260425T232638
CREATED:20230308T032954Z
LAST-MODIFIED:20230308T033855Z
UID:5151-1678525200-1678550400@dyesswecareteam.com
SUMMARY:Noah Project Paint Project
DESCRIPTION:Noah Project – Come Help Victims of Domestic Abuse\nWe need volunteers to put a fresh coat of paint on some walls.  We’re going to paint the cafeteria\, create a more inviting reception area and make the laundry room FUN for the Mom’s and kiddos!\nThe project is this Saturday\, and we have a morning and afternoon shift.  We will provide lunch for those working BOTH shifts\, so if you’re helping all day\, make sure to sign-up for both shifts.\nSaturday March 11th – Noah Project\, 5802 Texas Avenue\n9:00 AM TO 4:00 PM\nNeed volunteers to paint rooms at Noah Project\, a center for abused spouses. The Team Leader for this project is SrA Dustin Brooks. Those working both shifts PLEASE complete the form for both morning and afternoon because Noah is providing lunch.\nCLICK HERE TO VOLUNTEER
URL:https://dyesswecareteam.com/blog/event/noah-project-paint-project/
LOCATION:Noah Project\, 5802 Texas Ave\, Abilene\, TX\, 79605\, United States
ATTACH;FMTTYPE=image/jpeg:https://dyesswecareteam.com/blog/wp-content/uploads/2023/03/20230304-_NZ61612.jpg
END:VEVENT
END:VCALENDAR